BEGIN:VCALENDAR
VERSION:2.0
PRODID:-//Healthway - ECPv5.0.2//NONSGML v1.0//EN
CALSCALE:GREGORIAN
METHOD:PUBLISH
X-WR-CALNAME:Healthway
X-ORIGINAL-URL:https://www.healthway.wa.gov.au
X-WR-CALDESC:Events for Healthway
BEGIN:VTIMEZONE
TZID:Asia/Shanghai
BEGIN:STANDARD
TZOFFSETFROM:+0800
TZOFFSETTO:+0800
TZNAME:CST
DTSTART:20200101T000000
END:STANDARD
END:VTIMEZONE
BEGIN:VEVENT
DTSTART;TZID=Asia/Shanghai:20200213T100000
DTEND;TZID=Asia/Shanghai:20200216T210000
DTSTAMP:20200227T121305
CREATED:20191202T014905Z
LAST-MODIFIED:20191202T032316Z
UID:3766-1581588000-1581886800@www.healthway.wa.gov.au
SUMMARY:Boyup Brook Country Music Festival
DESCRIPTION:The Boyup Brook Country Music Festival presented by LiveLighter is a vibrant community event showcasing country music in Western Australia. \n
URL:https://www.healthway.wa.gov.au/event/boyup-brook-country-music-festival/
LOCATION:Boyup Brook\, 72 Abel Street\, Boyup Brook\, WA\, 6244\, Australia
END:VEVENT
BEGIN:VEVENT
DTSTART;VALUE=DATE:20200214
DTEND;VALUE=DATE:20200224
DTSTAMP:20200227T121305
CREATED:20200108T073054Z
LAST-MODIFIED:20200108T073054Z
UID:3862-1581638400-1582502399@www.healthway.wa.gov.au
SUMMARY:LiveLighter Busselton Fringe
DESCRIPTION:Busselton Fringe is a vibrant festival with a feast of artistic mediums such street theatre\, stand up comedy\, dance\, circus\, musical theatre\, cabaret\, burlesque and so much more. The event runs over a week in February with performances at venues in and around Busselton.  The Fringe Fun Day takes place Sat 22 Feb\, at the ArtGeo Cultural Complex with a street closure\, pop up bar\, creative emporium\, live music\, delicious food and all round chilled out vibe.  Sit and relax whilst being entertained by a blend of local community and visiting artists. \n
URL:https://www.healthway.wa.gov.au/event/livelighter-busselton-fringe/
LOCATION:Busselton
END:VEVENT
END:VCALENDAR