BEGIN:VCALENDAR
VERSION:2.0
PRODID:-//Healthway - ECPv5.0.2//NONSGML v1.0//EN
CALSCALE:GREGORIAN
METHOD:PUBLISH
X-WR-CALNAME:Healthway
X-ORIGINAL-URL:https://www.healthway.wa.gov.au
X-WR-CALDESC:Events for Healthway
BEGIN:VTIMEZONE
TZID:Asia/Shanghai
BEGIN:STANDARD
TZOFFSETFROM:+0800
TZOFFSETTO:+0800
TZNAME:CST
DTSTART:20200101T000000
END:STANDARD
END:VTIMEZONE
BEGIN:VEVENT
DTSTART;VALUE=DATE:20200208
DTEND;VALUE=DATE:20200209
DTSTAMP:20200227T120704
CREATED:20200103T062115Z
LAST-MODIFIED:20200103T062115Z
UID:3846-1581120000-1581206399@www.healthway.wa.gov.au
SUMMARY:SunSmart Busselton Half Marathon & Fun Run 2020
DESCRIPTION:Held annually on the second weekend in February\, the SunSmart Busselton Half Marathon is a fantastic community event\, which includes a 5km walk/run a 10km run and a half marathon. \n
URL:https://www.healthway.wa.gov.au/event/sunsmart-busselton-half-marathon-fun-run-2020/
LOCATION:Busselton Foreshore
END:VEVENT
END:VCALENDAR