BEGIN:VCALENDAR
VERSION:2.0
PRODID:-//Healthway - ECPv5.0.2//NONSGML v1.0//EN
CALSCALE:GREGORIAN
METHOD:PUBLISH
X-WR-CALNAME:Healthway
X-ORIGINAL-URL:https://www.healthway.wa.gov.au
X-WR-CALDESC:Events for Healthway
BEGIN:VTIMEZONE
TZID:Asia/Shanghai
BEGIN:STANDARD
TZOFFSETFROM:+0800
TZOFFSETTO:+0800
TZNAME:CST
DTSTART:20200101T000000
END:STANDARD
END:VTIMEZONE
BEGIN:VEVENT
DTSTART;TZID=Asia/Shanghai:20200202T173000
DTEND;TZID=Asia/Shanghai:20200202T200000
DTSTAMP:20200227T120532
CREATED:20191219T072922Z
LAST-MODIFIED:20191219T072922Z
UID:3820-1580664600-1580673600@www.healthway.wa.gov.au
SUMMARY:LiveLighter Twilight Trio concert series
DESCRIPTION:Join Adam Hall and the Velvet Playboys for an evening of jazz tunes\, and jive along again with Perth Swing Dance Academy. Free parking available – Food trucks – BYO chairs and rugs. \n
URL:https://www.healthway.wa.gov.au/event/livelighter-twilight-trio-concert-series/
LOCATION:Higgins Park\, 9 Playfield Street\, East Victoria Park
END:VEVENT
END:VCALENDAR