BEGIN:VCALENDAR
VERSION:2.0
PRODID:-//Healthway - ECPv5.0.2//NONSGML v1.0//EN
CALSCALE:GREGORIAN
METHOD:PUBLISH
X-WR-CALNAME:Healthway
X-ORIGINAL-URL:https://www.healthway.wa.gov.au
X-WR-CALDESC:Events for Healthway
BEGIN:VTIMEZONE
TZID:Asia/Shanghai
BEGIN:STANDARD
TZOFFSETFROM:+0800
TZOFFSETTO:+0800
TZNAME:CST
DTSTART:20200101T000000
END:STANDARD
END:VTIMEZONE
BEGIN:VEVENT
DTSTART;TZID=Asia/Shanghai:20200101T100000
DTEND;TZID=Asia/Shanghai:20200131T170000
DTSTAMP:20200227T120354
CREATED:20191111T022424Z
LAST-MODIFIED:20191111T022424Z
UID:3736-1577872800-1580490000@www.healthway.wa.gov.au
SUMMARY:Festival of Busselton
DESCRIPTION:The Festival of Busselton forms part of a series of community events happening in the City of Busselton over January. \n
URL:https://www.healthway.wa.gov.au/event/festival-of-busselton/
LOCATION:Busselton\, Queen Street\, Busselton\, Western Australia\, 6280\, Australia
END:VEVENT
BEGIN:VEVENT
DTSTART;TZID=Asia/Shanghai:20200131T180000
DTEND;TZID=Asia/Shanghai:20200131T233000
DTSTAMP:20200227T120354
CREATED:20191206T005013Z
LAST-MODIFIED:20191206T005013Z
UID:3776-1580493600-1580513400@www.healthway.wa.gov.au
SUMMARY:Tet Festival 2020
DESCRIPTION:The Vietnamese Community in Australia – WA Chapter will hold its annual Tet Festival at the Wanneroo Showgrounds. \n
URL:https://www.healthway.wa.gov.au/event/tet-festival-2020/
LOCATION:Wanneroo Showgrounds
END:VEVENT
END:VCALENDAR