BEGIN:VCALENDAR
VERSION:2.0
PRODID:-//Healthway - ECPv5.0.2//NONSGML v1.0//EN
CALSCALE:GREGORIAN
METHOD:PUBLISH
X-WR-CALNAME:Healthway
X-ORIGINAL-URL:https://www.healthway.wa.gov.au
X-WR-CALDESC:Events for Healthway
BEGIN:VTIMEZONE
TZID:Asia/Shanghai
BEGIN:STANDARD
TZOFFSETFROM:+0800
TZOFFSETTO:+0800
TZNAME:CST
DTSTART:20190101T000000
END:STANDARD
END:VTIMEZONE
BEGIN:VEVENT
DTSTART;VALUE=DATE:20190709
DTEND;VALUE=DATE:20190714
DTSTAMP:20200302T141352
CREATED:20190710T052436Z
LAST-MODIFIED:20190710T052436Z
UID:3486-1562630400-1563062399@www.healthway.wa.gov.au
SUMMARY:Undalup NAIDOC Festival
DESCRIPTION:\n\n\n\n\n\n\n\nThe Undalup Association would like to celebrate this years NAIDOC week  with new engaging Cultural workshops for everyone to enjoy. This year the Undalup Association invites everyone to walk with us all\, the Aboriginal and Torres Strait Islander people in a movement of the Australian people for a better future. \n\n\n\n\n\n\n\n\n
URL:https://www.healthway.wa.gov.au/event/undalup-naidoc-festival/
LOCATION:Busselton
END:VEVENT
END:VCALENDAR