BEGIN:VCALENDAR
VERSION:2.0
PRODID:-//Healthway - ECPv5.0.2//NONSGML v1.0//EN
CALSCALE:GREGORIAN
METHOD:PUBLISH
X-WR-CALNAME:Healthway
X-ORIGINAL-URL:https://www.healthway.wa.gov.au
X-WR-CALDESC:Events for Healthway
BEGIN:VTIMEZONE
TZID:Asia/Shanghai
BEGIN:STANDARD
TZOFFSETFROM:+0800
TZOFFSETTO:+0800
TZNAME:CST
DTSTART:20190101T000000
END:STANDARD
END:VTIMEZONE
BEGIN:VEVENT
DTSTART;VALUE=DATE:20190928
DTEND;VALUE=DATE:20190929
DTSTAMP:20200302T140639
CREATED:20190725T000417Z
LAST-MODIFIED:20190725T001053Z
UID:3509-1569628800-1569715199@www.healthway.wa.gov.au
SUMMARY:The 2019 York Festival presented by Live Lighter
DESCRIPTION:\n  \n\n\n\n\n\nThe York Festival attracts thousands of people over September and October to WA’s oldest inland town. Highlights include the Wara Art Trail spectacular straw sculptures\, the Running of the Lambs costumed obstacle event\, the The York Maze designed by local school kids\, and the entrepreneurial Tips from the Richest Man in the Colony\, walking tours\, art\, comedy\, live music and heaps more! \n\n\n\n\n\n  \n\n
URL:https://www.healthway.wa.gov.au/event/the-2019-york-festival-presented-by-live-lighter/
LOCATION:York
END:VEVENT
END:VCALENDAR