BEGIN:VCALENDAR
VERSION:2.0
PRODID:-//Healthway - ECPv5.0.2//NONSGML v1.0//EN
CALSCALE:GREGORIAN
METHOD:PUBLISH
X-WR-CALNAME:Healthway
X-ORIGINAL-URL:https://www.healthway.wa.gov.au
X-WR-CALDESC:Events for Healthway
BEGIN:VTIMEZONE
TZID:Asia/Shanghai
BEGIN:STANDARD
TZOFFSETFROM:+0800
TZOFFSETTO:+0800
TZNAME:CST
DTSTART:20190101T000000
END:STANDARD
END:VTIMEZONE
BEGIN:VEVENT
DTSTART;VALUE=DATE:20190921
DTEND;VALUE=DATE:20191021
DTSTAMP:20200302T141209
CREATED:20190919T013850Z
LAST-MODIFIED:20190919T013850Z
UID:3624-1569024000-1571615999@www.healthway.wa.gov.au
SUMMARY:SunSmart 2019 Bloom Festival
DESCRIPTION:There are so many fantastic things to see and do across the width and breadth of the Great Southern of Western Australia and the Bloom Festival in spring is the perfect place to start.  With an interesting and varied array of events through most of our 19 towns during September and October\, you are sure to find something interesting to do! \n
URL:https://www.healthway.wa.gov.au/event/sunsmart-2019-bloom-festival/
LOCATION:Great Southern
END:VEVENT
END:VCALENDAR